BEGIN:VCALENDAR
VERSION:2.0
PRODID:-//Afrim&#039;s Sports - ECPv4.9.7//NONSGML v1.0//EN
CALSCALE:GREGORIAN
METHOD:PUBLISH
X-WR-CALNAME:Afrim&#039;s Sports
X-ORIGINAL-URL:https://www.afrimsports.com
X-WR-CALDESC:Events for Afrim&#039;s Sports
BEGIN:VTIMEZONE
TZID:"America/New_York"
BEGIN:DAYLIGHT
TZOFFSETFROM:-0500
TZOFFSETTO:-0400
TZNAME:EDT
DTSTART:20200308T070000
END:DAYLIGHT
BEGIN:STANDARD
TZOFFSETFROM:-0400
TZOFFSETTO:-0500
TZNAME:EST
DTSTART:20201101T060000
END:STANDARD
END:VTIMEZONE
BEGIN:VEVENT
DTSTART;TZID="America/New_York":20200218T090000
DTEND;TZID="America/New_York":20200221T120000
DTSTAMP:20260422T152010
CREATED:20200210T221838Z
LAST-MODIFIED:20200210T222639Z
UID:4755-1582016400-1582286400@www.afrimsports.com
SUMMARY:Coerver February Break Soccer Camp
DESCRIPTION:CLICK HERE TO REGISTER \n
URL:https://www.afrimsports.com/calendar/coerver-february-break-soccer-camp/
LOCATION:Afrim’s Colonie\, 636 Albany Shaker Rd.\, Albany\, NY\, 12211
CATEGORIES:Soccer Camps
END:VEVENT
END:VCALENDAR