BEGIN:VCALENDAR
VERSION:2.0
PRODID:-//Afrim&#039;s Sports - ECPv4.9.7//NONSGML v1.0//EN
CALSCALE:GREGORIAN
METHOD:PUBLISH
X-WR-CALNAME:Afrim&#039;s Sports
X-ORIGINAL-URL:https://www.afrimsports.com
X-WR-CALDESC:Events for Afrim&#039;s Sports
BEGIN:VTIMEZONE
TZID:"America/New_York"
BEGIN:DAYLIGHT
TZOFFSETFROM:-0500
TZOFFSETTO:-0400
TZNAME:EDT
DTSTART:20180311T070000
END:DAYLIGHT
BEGIN:STANDARD
TZOFFSETFROM:-0400
TZOFFSETTO:-0500
TZNAME:EST
DTSTART:20181104T060000
END:STANDARD
END:VTIMEZONE
BEGIN:VEVENT
DTSTART;TZID="America/New_York":20181226T090000
DTEND;TZID="America/New_York":20181226T120000
DTSTAMP:20260423T102143
CREATED:20181221T163114Z
LAST-MODIFIED:20181221T163226Z
UID:2798-1545814800-1545825600@www.afrimsports.com
SUMMARY:Coerver Holiday Camp
DESCRIPTION:
URL:https://www.afrimsports.com/calendar/coerver-holiday-camp/
CATEGORIES:Youth Camps
END:VEVENT
END:VCALENDAR