BEGIN:VCALENDAR
VERSION:2.0
PRODID:-//Afrim&#039;s Sports - ECPv4.9.7//NONSGML v1.0//EN
CALSCALE:GREGORIAN
METHOD:PUBLISH
X-WR-CALNAME:Afrim&#039;s Sports
X-ORIGINAL-URL:https://www.afrimsports.com
X-WR-CALDESC:Events for Afrim&#039;s Sports
BEGIN:VTIMEZONE
TZID:"America/New_York"
BEGIN:DAYLIGHT
TZOFFSETFROM:-0500
TZOFFSETTO:-0400
TZNAME:EDT
DTSTART:20200308T070000
END:DAYLIGHT
BEGIN:STANDARD
TZOFFSETFROM:-0400
TZOFFSETTO:-0500
TZNAME:EST
DTSTART:20201101T060000
END:STANDARD
END:VTIMEZONE
BEGIN:VEVENT
DTSTART;TZID="America/New_York":20200909T090000
DTEND;TZID="America/New_York":20200909T160000
DTSTAMP:20260422T045237
CREATED:20200908T113625Z
LAST-MODIFIED:20200908T113625Z
UID:5303-1599642000-1599667200@www.afrimsports.com
SUMMARY:Summer Action Camp: Week #12
DESCRIPTION:
URL:https://www.afrimsports.com/calendar/fall-2020-action-camp-2-2-2-2-2-2-2-2-2-2-2-2-2-2-2-2/
CATEGORIES:Action Camp,Action Camp
END:VEVENT
END:VCALENDAR