BEGIN:VCALENDAR
VERSION:2.0
PRODID:-//Afrim&#039;s Sports - ECPv4.9.7//NONSGML v1.0//EN
CALSCALE:GREGORIAN
METHOD:PUBLISH
X-WR-CALNAME:Afrim&#039;s Sports
X-ORIGINAL-URL:https://www.afrimsports.com
X-WR-CALDESC:Events for Afrim&#039;s Sports
BEGIN:VTIMEZONE
TZID:"America/New_York"
BEGIN:DAYLIGHT
TZOFFSETFROM:-0500
TZOFFSETTO:-0400
TZNAME:EDT
DTSTART:20180311T070000
END:DAYLIGHT
BEGIN:STANDARD
TZOFFSETFROM:-0400
TZOFFSETTO:-0500
TZNAME:EST
DTSTART:20181104T060000
END:STANDARD
END:VTIMEZONE
BEGIN:VEVENT
DTSTART;TZID="America/New_York":20180518T180000
DTEND;TZID="America/New_York":20180518T210000
DTSTAMP:20260423T230741
CREATED:20180416T155354Z
LAST-MODIFIED:20180416T155354Z
UID:2008-1526666400-1526677200@www.afrimsports.com
SUMMARY:Kids Night Out
DESCRIPTION:
URL:https://www.afrimsports.com/calendar/kids-night-out-2/
LOCATION:Afrim’s Colonie\, 636 Albany Shaker Rd.\, Albany\, NY\, 12211
CATEGORIES:Youth Programs
END:VEVENT
END:VCALENDAR