BEGIN:VCALENDAR
VERSION:2.0
PRODID:-//Afrim&#039;s Sports - ECPv4.9.7//NONSGML v1.0//EN
CALSCALE:GREGORIAN
METHOD:PUBLISH
X-WR-CALNAME:Afrim&#039;s Sports
X-ORIGINAL-URL:https://www.afrimsports.com
X-WR-CALDESC:Events for Afrim&#039;s Sports
BEGIN:VTIMEZONE
TZID:"America/New_York"
BEGIN:DAYLIGHT
TZOFFSETFROM:-0500
TZOFFSETTO:-0400
TZNAME:EDT
DTSTART:20200308T070000
END:DAYLIGHT
BEGIN:STANDARD
TZOFFSETFROM:-0400
TZOFFSETTO:-0500
TZNAME:EST
DTSTART:20201101T060000
END:STANDARD
END:VTIMEZONE
BEGIN:VEVENT
DTSTART;TZID="America/New_York":20201016T173000
DTEND;TZID="America/New_York":20201016T203000
DTSTAMP:20260421T192725
CREATED:20201023T142338Z
LAST-MODIFIED:20201023T142338Z
UID:5538-1602869400-1602880200@www.afrimsports.com
SUMMARY:NFL Youth Flag FB Registrations
DESCRIPTION:
URL:https://www.afrimsports.com/calendar/nfl-youth-flag-fb-registrations/
LOCATION:Afrim’s Colonie\, 636 Albany Shaker Rd.\, Albany\, NY\, 12211
CATEGORIES:Indoor Flag Football
END:VEVENT
END:VCALENDAR