BEGIN:VCALENDAR
VERSION:2.0
PRODID:-//Afrim&#039;s Sports - ECPv4.9.7//NONSGML v1.0//EN
CALSCALE:GREGORIAN
METHOD:PUBLISH
X-WR-CALNAME:Afrim&#039;s Sports
X-ORIGINAL-URL:https://www.afrimsports.com
X-WR-CALDESC:Events for Afrim&#039;s Sports
BEGIN:VTIMEZONE
TZID:"America/New_York"
BEGIN:DAYLIGHT
TZOFFSETFROM:-0500
TZOFFSETTO:-0400
TZNAME:EDT
DTSTART:20190310T070000
END:DAYLIGHT
BEGIN:STANDARD
TZOFFSETFROM:-0400
TZOFFSETTO:-0500
TZNAME:EST
DTSTART:20191103T060000
END:STANDARD
END:VTIMEZONE
BEGIN:VEVENT
DTSTART;TZID="America/New_York":20190705T163000
DTEND;TZID="America/New_York":20190705T200000
DTSTAMP:20260423T101350
CREATED:20190705T140956Z
LAST-MODIFIED:20190705T140956Z
UID:3569-1562344200-1562356800@www.afrimsports.com
SUMMARY:No Open Bounce - July 5th!
DESCRIPTION:
URL:https://www.afrimsports.com/calendar/no-open-bounce-july-5th/
CATEGORIES:Parties
END:VEVENT
END:VCALENDAR