BEGIN:VCALENDAR
VERSION:2.0
PRODID:-//Afrim&#039;s Sports - ECPv4.9.7//NONSGML v1.0//EN
CALSCALE:GREGORIAN
METHOD:PUBLISH
X-WR-CALNAME:Afrim&#039;s Sports
X-ORIGINAL-URL:https://www.afrimsports.com
X-WR-CALDESC:Events for Afrim&#039;s Sports
BEGIN:VTIMEZONE
TZID:"America/New_York"
BEGIN:DAYLIGHT
TZOFFSETFROM:-0500
TZOFFSETTO:-0400
TZNAME:EDT
DTSTART:20200308T070000
END:DAYLIGHT
BEGIN:STANDARD
TZOFFSETFROM:-0400
TZOFFSETTO:-0500
TZNAME:EST
DTSTART:20201101T060000
END:STANDARD
END:VTIMEZONE
BEGIN:VEVENT
DTSTART;TZID="America/New_York":20200305T163000
DTEND;TZID="America/New_York":20200305T200000
DTSTAMP:20260422T165101
CREATED:20200305T202316Z
LAST-MODIFIED:20200305T202316Z
UID:4890-1583425800-1583438400@www.afrimsports.com
SUMMARY:No Open Bounce Tonight!
DESCRIPTION:
URL:https://www.afrimsports.com/calendar/no-open-bounce-tonight/
CATEGORIES:Parties
END:VEVENT
END:VCALENDAR