BEGIN:VCALENDAR
VERSION:2.0
PRODID:-//Afrim&#039;s Sports - ECPv4.9.7//NONSGML v1.0//EN
CALSCALE:GREGORIAN
METHOD:PUBLISH
X-WR-CALNAME:Afrim&#039;s Sports
X-ORIGINAL-URL:https://www.afrimsports.com
X-WR-CALDESC:Events for Afrim&#039;s Sports
BEGIN:VTIMEZONE
TZID:"America/New_York"
BEGIN:DAYLIGHT
TZOFFSETFROM:-0500
TZOFFSETTO:-0400
TZNAME:EDT
DTSTART:20180311T070000
END:DAYLIGHT
BEGIN:STANDARD
TZOFFSETFROM:-0400
TZOFFSETTO:-0500
TZNAME:EST
DTSTART:20181104T060000
END:STANDARD
END:VTIMEZONE
BEGIN:VEVENT
DTSTART;TZID="America/New_York":20181223T163000
DTEND;TZID="America/New_York":20181223T200000
DTSTAMP:20260423T114226
CREATED:20181221T162654Z
LAST-MODIFIED:20181221T162654Z
UID:2794-1545582600-1545595200@www.afrimsports.com
SUMMARY:Special Open Bounce Hours
DESCRIPTION:
URL:https://www.afrimsports.com/calendar/special-open-bounce-hours-4/
CATEGORIES:Parties
END:VEVENT
END:VCALENDAR