BEGIN:VCALENDAR
VERSION:2.0
PRODID:-//Afrim&#039;s Sports - ECPv4.9.7//NONSGML v1.0//EN
CALSCALE:GREGORIAN
METHOD:PUBLISH
X-WR-CALNAME:Afrim&#039;s Sports
X-ORIGINAL-URL:https://www.afrimsports.com
X-WR-CALDESC:Events for Afrim&#039;s Sports
BEGIN:VTIMEZONE
TZID:"America/New_York"
BEGIN:DAYLIGHT
TZOFFSETFROM:-0500
TZOFFSETTO:-0400
TZNAME:EDT
DTSTART:20180311T070000
END:DAYLIGHT
BEGIN:STANDARD
TZOFFSETFROM:-0400
TZOFFSETTO:-0500
TZNAME:EST
DTSTART:20181104T060000
END:STANDARD
END:VTIMEZONE
BEGIN:VEVENT
DTSTART;TZID="America/New_York":20180608T180000
DTEND;TZID="America/New_York":20180608T200000
DTSTAMP:20260423T202238
CREATED:20180425T134128Z
LAST-MODIFIED:20180425T134128Z
UID:2037-1528480800-1528488000@www.afrimsports.com
SUMMARY:Spring Youth Pick-up
DESCRIPTION:Every Friday | 6:00pm – 8:00pm | Colonie Location\nU10 – U11 | Skill Challenges & Music | $10 Per Player \n
URL:https://www.afrimsports.com/calendar/spring-youth-pick-up-5/
LOCATION:Afrim’s Colonie\, 636 Albany Shaker Rd.\, Albany\, NY\, 12211
CATEGORIES:Leagues
END:VEVENT
END:VCALENDAR