BEGIN:VCALENDAR
VERSION:2.0
PRODID:-//Afrim&#039;s Sports - ECPv4.9.7//NONSGML v1.0//EN
CALSCALE:GREGORIAN
METHOD:PUBLISH
X-WR-CALNAME:Afrim&#039;s Sports
X-ORIGINAL-URL:https://www.afrimsports.com
X-WR-CALDESC:Events for Afrim&#039;s Sports
BEGIN:VTIMEZONE
TZID:"America/New_York"
BEGIN:DAYLIGHT
TZOFFSETFROM:-0500
TZOFFSETTO:-0400
TZNAME:EDT
DTSTART:20210314T070000
END:DAYLIGHT
BEGIN:STANDARD
TZOFFSETFROM:-0400
TZOFFSETTO:-0500
TZNAME:EST
DTSTART:20211107T060000
END:STANDARD
END:VTIMEZONE
BEGIN:VEVENT
DTSTART;VALUE=DATE:20210124
DTEND;VALUE=DATE:20210125
DTSTAMP:20260423T215927
CREATED:20210110T221916Z
LAST-MODIFIED:20210110T221916Z
UID:5881-1611446400-1611532799@www.afrimsports.com
SUMMARY:Summit LAX Girls Tournament
DESCRIPTION:
URL:https://www.afrimsports.com/calendar/summit-lax-girls-tournament/
LOCATION:Afrim’s Sports Park\, 969 Watervliet Shaker Rd\, Schenectady\, NY\, 12309\, United States
END:VEVENT
END:VCALENDAR