BEGIN:VCALENDAR
VERSION:2.0
PRODID:-//Afrim&#039;s Sports - ECPv4.9.7//NONSGML v1.0//EN
CALSCALE:GREGORIAN
METHOD:PUBLISH
X-WR-CALNAME:Afrim&#039;s Sports
X-ORIGINAL-URL:https://www.afrimsports.com
X-WR-CALDESC:Events for Afrim&#039;s Sports
BEGIN:VTIMEZONE
TZID:"America/New_York"
BEGIN:DAYLIGHT
TZOFFSETFROM:-0500
TZOFFSETTO:-0400
TZNAME:EDT
DTSTART:20180311T070000
END:DAYLIGHT
BEGIN:STANDARD
TZOFFSETFROM:-0400
TZOFFSETTO:-0500
TZNAME:EST
DTSTART:20181104T060000
END:STANDARD
END:VTIMEZONE
BEGIN:VEVENT
DTSTART;TZID="America/New_York":20180630T090000
DTEND;TZID="America/New_York":20180630T170000
DTSTAMP:20260423T230617
CREATED:20180523T141131Z
LAST-MODIFIED:20180523T145023Z
UID:2114-1530349200-1530378000@www.afrimsports.com
SUMMARY:World Cup 2018 Festival
DESCRIPTION:  \nThis slideshow requires JavaScript. \n
URL:https://www.afrimsports.com/calendar/world-cup-2018-festival/
LOCATION:Afrim’s Colonie\, 636 Albany Shaker Rd.\, Albany\, NY\, 12211
ATTACH;FMTTYPE=image/jpeg:https://www.afrimsports.com/wp-content/uploads/WorldCupFestival_Header.jpg
END:VEVENT
END:VCALENDAR